BEGIN:VCALENDAR
VERSION:2.0
PRODID:-//Squarespace Inc/Squarespace 6//v6//EN
BEGIN:VEVENT
UID:59dc8a86b07869b5836b261c@squarespace.com
DTSTAMP:20171019T143753Z
DTSTART:20171030T090000Z
DTEND:20171105T120000Z
SUMMARY:School Closed for Mid -Term Break
END:VEVENT
END:VCALENDAR
