BEGIN:VCALENDAR
VERSION:2.0
PRODID:-//Squarespace Inc/Squarespace 6//v6//EN
BEGIN:VEVENT
UID:59dc89d712abd9f0c232ec61@squarespace.com
DTSTAMP:20171019T144246Z
DTSTART:20171103T092000Z
DTEND:20171105T235900Z
SUMMARY:School Closed for Mid-Term
END:VEVENT
END:VCALENDAR
