BEGIN:VCALENDAR
VERSION:2.0
PRODID:-//Squarespace Inc/Squarespace 6//v6//EN
BEGIN:VEVENT
UID:59e8b82032601eb076e1259f@squarespace.com
DTSTAMP:20171019T144528Z
DTSTART:20171106T092000Z
DTEND:20171106T150000Z
SUMMARY:School Re-Opens after Mid Term
END:VEVENT
END:VCALENDAR
