BEGIN:VCALENDAR
VERSION:2.0
PRODID:-//Squarespace Inc/Squarespace 6//v6//EN
BEGIN:VEVENT
UID:59dc8998a8b2b02864cebd35@squarespace.com
DTSTAMP:20171010T085010Z
DTSTART:20171027T103000Z
DTEND:20171027T133000Z
SUMMARY:Trip to St Mary's College Musical
END:VEVENT
END:VCALENDAR
